BEGIN:VCALENDAR
PRODID:-//Google Inc//Google Calendar 70.9054//EN
VERSION:2.0
CALSCALE:GREGORIAN
METHOD:PUBLISH
X-WR-CALNAME:Rec tests
X-WR-TIMEZONE:Europe/Zurich
X-WR-CALDESC:
BEGIN:VTIMEZONE
TZID:Europe/Zurich
X-LIC-LOCATION:Europe/Zurich
BEGIN:DAYLIGHT
TZOFFSETFROM:+0100
TZOFFSETTO:+0200
TZNAME:CEST
DTSTART:19700329T020000
RRULE:FREQ=YEARLY;BYMONTH=3;BYDAY=-1SU
END:DAYLIGHT
BEGIN:STANDARD
TZOFFSETFROM:+0200
TZOFFSETTO:+0100
TZNAME:CET
DTSTART:19701025T030000
RRULE:FREQ=YEARLY;BYMONTH=10;BYDAY=-1SU
END:STANDARD
END:VTIMEZONE
BEGIN:VEVENT
DTSTART;VALUE=DATE:20180501
DTEND;VALUE=DATE:20180502
RRULE:FREQ=MONTHLY;BYMONTHDAY=1
DTSTAMP:20180524T091440Z
UID:c1pe8f82jk6f7rb0nava69sdvk@google.com
ATTENDEE;CUTYPE=INDIVIDUAL;ROLE=REQ-PARTICIPANT;PARTSTAT=ACCEPTED;CN=Rec te
 sts;X-NUM-GUESTS=0:mailto:boia1km6r0rcq58mmt733b6sd8@group.calendar.google.
 com
CREATED:20180524T065014Z
DESCRIPTION:
LAST-MODIFIED:20180524T075606Z
LOCATION:
SEQUENCE:1
STATUS:CONFIRMED
SUMMARY:Monthly
TRANSP:TRANSPARENT
END:VEVENT
BEGIN:VEVENT
DTSTART;VALUE=DATE:20180601
DTEND;VALUE=DATE:20180602
RRULE:FREQ=YEARLY;UNTIL=20151224T000000Z
DTSTAMP:20180524T091440Z
UID:slrnui9q5fgg0gg0ic6vqusb08@google.com
ATTENDEE;CUTYPE=INDIVIDUAL;ROLE=REQ-PARTICIPANT;PARTSTAT=ACCEPTED;CN=Rec te
 sts;X-NUM-GUESTS=0:mailto:boia1km6r0rcq58mmt733b6sd8@group.calendar.google.
 com
CREATED:20180524T065132Z
DESCRIPTION:
LAST-MODIFIED:20180524T075553Z
LOCATION:
SEQUENCE:1
STATUS:CONFIRMED
SUMMARY:Yearly
TRANSP:TRANSPARENT
END:VEVENT
BEGIN:VEVENT
DTSTART;VALUE=DATE:20180528
DTEND;VALUE=DATE:20180529
DTSTAMP:20180524T091440Z
UID:s6gha2874755vtvmjg02eh52a0@google.com
ATTENDEE;CUTYPE=INDIVIDUAL;ROLE=REQ-PARTICIPANT;PARTSTAT=ACCEPTED;CN=Rec te
 sts;X-NUM-GUESTS=0:mailto:boia1km6r0rcq58mmt733b6sd8@group.calendar.google.
 com
CREATED:20180524T065132Z
DESCRIPTION:
LAST-MODIFIED:20180524T075553Z
LOCATION:
SEQUENCE:0
STATUS:CONFIRMED
SUMMARY:Normal
TRANSP:TRANSPARENT
END:VEVENT
BEGIN:VEVENT
DTSTART;VALUE=DATE:20180601
DTEND;VALUE=DATE:20180602
RRULE:FREQ=WEEKLY;BYDAY=TU,WE,FR
DTSTAMP:20180524T091440Z
UID:125s701rfk78nmljlfiilj2ocs@google.com
ATTENDEE;CUTYPE=INDIVIDUAL;ROLE=REQ-PARTICIPANT;PARTSTAT=ACCEPTED;CN=Rec te
 sts;X-NUM-GUESTS=0:mailto:boia1km6r0rcq58mmt733b6sd8@group.calendar.google.
 com
CREATED:20180524T064919Z
DESCRIPTION:
LAST-MODIFIED:20180524T075543Z
LOCATION:
SEQUENCE:2
STATUS:CONFIRMED
SUMMARY:Weekly
TRANSP:TRANSPARENT
END:VEVENT
BEGIN:VEVENT
DTSTART;VALUE=DATE:20180601
DTEND;VALUE=DATE:20180602
RRULE:FREQ=DAILY
DTSTAMP:20180524T091440Z
UID:lbe8c7616lm0n5ralpdv282dqk@google.com
ATTENDEE;CUTYPE=INDIVIDUAL;ROLE=REQ-PARTICIPANT;PARTSTAT=ACCEPTED;CN=Rec te
 sts;X-NUM-GUESTS=0:mailto:boia1km6r0rcq58mmt733b6sd8@group.calendar.google.
 com
CREATED:20180524T064944Z
DESCRIPTION:
LAST-MODIFIED:20180524T075531Z
LOCATION: Los Angeles
SEQUENCE:1
STATUS:CONFIRMED
SUMMARY:Dayli
TRANSP:TRANSPARENT
END:VEVENT
END:VCALENDAR